BEGIN:VCALENDAR
VERSION:2.0
PRODID:-//hacksw/handcal//NONSGML v1.0//EN
BEGIN:VEVENT
SUMMARY:Reunion Club a la MDA (maison des associations)
UID:da98d6aa-63cb-414d-9813-814a0a8b1795
DTSTART:20260604T173000Z
DTEND:20260604T190000Z
LOCATION:Localisation   
CATEGORIES:Administratif
STATUS:
DESCRIPTION:<p><span style="font-size:18px;"><strong>ORDRE du
 Jour</strong></span></p>
 
 <p class="Standard"><span
 style="font-size:12pt"><span new="" roman="" style="font-family:"
 times="">            </span></span></p>
 
 <p
 class="Standard"><span style="font-size:14px;"><strong><span new=""
 roman="" times="">9 / QUESTIONS
 DIVERSES</span></strong></span></p>
 
 <p class="Standard"><span
 style="font-size:16px;">envoyez vos questions par mail a
 cycloaix73@gmail.com  : nous essaierons de preparer les
 reponses</span></p>
URL;VALUE=URI:https://www.cyclo-aixlesbains.fr/evenements/2026/06/04/reunion-club-a-la-mda-maison-des-associations-1856949
END:VEVENT
END:VCALENDAR
